BEGIN:VCALENDAR
VERSION:2.0
PRODID:-// - ECPv4.9.4//NONSGML v1.0//EN
CALSCALE:GREGORIAN
METHOD:PUBLISH
X-ORIGINAL-URL:https://kilwinningarchers.net
X-WR-CALDESC:Events for 
BEGIN:VTIMEZONE
TZID:"UTC"
BEGIN:STANDARD
TZOFFSETFROM:+0000
TZOFFSETTO:+0000
TZNAME:UTC
DTSTART:20170101T000000
END:STANDARD
END:VTIMEZONE
BEGIN:VEVENT
DTSTART;TZID="UTC":20170906T193000
DTEND;TZID="UTC":20170906T220000
DTSTAMP:20260421T171848
CREATED:20170828T160025Z
LAST-MODIFIED:20170828T215421Z
UID:75-1504726200-1504735200@kilwinningarchers.net
SUMMARY:Kilwinning Academy Indoor Starts
DESCRIPTION:Kilwinning Academy Indoor Starts \n
URL:https://kilwinningarchers.net/?tribe_events=kilwinning-academy-indoor-starts
LOCATION:Kilwinning Academy
END:VEVENT
END:VCALENDAR